BEGIN:VCALENDAR
VERSION:2.0
PRODID:gruene-lauf.de
METHOD:PUBLISH
BEGIN:VTIMEZONE
TZID:Europe/Berlin
X-LIC-LOCATION:Europe/Berlin
BEGIN:DAYLIGHT
TZOFFSETFROM:+0100
TZOFFSETTO:+0200
TZNAME:CEST
DTSTART:19700329T020000
RRULE:FREQ=YEARLY;INTERVAL=1;BYDAY=-1SU;BYMONTH=3
END:DAYLIGHT
BEGIN:STANDARD
TZOFFSETFROM:+0200
TZOFFSETTO:+0100
TZNAME:CET
DTSTART:19701025T030000
RRULE:FREQ=YEARLY;INTERVAL=1;BYDAY=-1SU;BYMONTH=10
END:STANDARD
END:VTIMEZONE
BEGIN:VEVENT
UID:0129b3967fcca8d588c35773838b3aa9@gruene-lauf.de
URL;VALUE=URI:https://gruene-lauf.de/termine/sitzung-des-ortsverbandes-de
 r-laufer-gruenen-11/
LOCATION:Kreisgeschäftsstelle
SUMMARY:Sitzung des Ortsverbandes der Laufer GRÜNEN
DESCRIPTION;ALTREP="data:text/html,%0A%3Cp%3EHerzliche%20Einladung%20an%2
 0alle%20Mitglieder%20und%20Interessierten%21%20Wir%20treffen%20uns%20in%2
 0der%20Kreisgesch%C3%A4ftsstelle%3C%2Fp%3E%0A":Herzliche Einladung an all
 e Mitglieder und Interessierten! Wir treffen uns in der Kreisgeschäftsst
 elle
CLASS:PUBLIC
DTSTART;TZID=Europe/Berlin:20260414T193000
DTEND;TZID=Europe/Berlin:20260414T210000
DTSTAMP:20260422T175231
END:VEVENT
END:VCALENDAR