BEGIN:VCALENDAR
VERSION:2.0
PRODID:gruene-lauf.de
METHOD:PUBLISH
BEGIN:VTIMEZONE
TZID:Europe/Berlin
X-LIC-LOCATION:Europe/Berlin
BEGIN:DAYLIGHT
TZOFFSETFROM:+0100
TZOFFSETTO:+0200
TZNAME:CEST
DTSTART:19700329T020000
RRULE:FREQ=YEARLY;INTERVAL=1;BYDAY=-1SU;BYMONTH=3
END:DAYLIGHT
BEGIN:STANDARD
TZOFFSETFROM:+0200
TZOFFSETTO:+0100
TZNAME:CET
DTSTART:19701025T030000
RRULE:FREQ=YEARLY;INTERVAL=1;BYDAY=-1SU;BYMONTH=10
END:STANDARD
END:VTIMEZONE
BEGIN:VEVENT
UID:c6c0c2fc750094512f79addaf94293be@gruene-lauf.de
URL;VALUE=URI:https://gruene-lauf.de/termine/nachhaltigkeitsmanagement-wi
 rksam-gestalten-mit-dem-ansatz-der-gemeinwohloekonomie/
LOCATION:PZ Kulturraum, Nürnberger Str. 19, Lauf
SUMMARY:Nachhaltigkeitsmanagement wirksam gestalten – mit dem Ansatz de
 r Gemeinwohlökonomie
DESCRIPTION;ALTREP="data:text/html,%0A%3Cp%3ENachhaltigkeit%20strategisch
 %20zu%20verankern%2C%20ist%20heute%20wichtiger%20denn%20je%20-%20und%20er
 %C3%B6ffnet%20enormes%20Potential%20f%C3%BCr%20Unternehmen%2C%20Kommunen%
 20und%20Organisationen.%20Doch%20wie%20lassen%20sich%20%C3%B6kologische%2
 C%20soziale%20und%20ethische%20Ziele%20wirksam%20ins%20Unternehmen%20inte
 grieren%3F%3C%2Fp%3E%0A%0A%0A%0A%3Cp%3EUnsere%20Veranstaltung%20bietet%20
 Einblicke%20in%20die%20nachhaltige%20Unternehmensf%C3%BChrung%20und%20zei
 gt%2C%20wie%20Gemeinwohl-%C3%96konomie%20%28GW%C3%96%29%20Unternehmen%20d
 abei%20unterst%C3%BCtzt%2C%20%3C%2Fp%3E%0A%0A%0A%0A%3Cul%20class%3D%22wp-
 block-list%22%3E%0A%3Cli%3EFachkr%C3%A4fte%20zu%20gewinnen%3C%2Fli%3E%0A%
 0A%0A%0A%3Cli%3EInnovationimpulse%20zu%20entwickeln%20und%3C%2Fli%3E%0A%0
 A%0A%0A%3Cli%3EKund%2Ainnen%20durch%20glaubw%C3%BCrdiges%20Engagement%20z
 u%20%C3%BCberzeugen%3C%2Fli%3E%0A%3C%2Ful%3E%0A%0A%0A%0A%3Cp%3E%3Cstrong%
 3ELassen%20Sie%20uns%20gemeinsam%20die%20Zukunft%20gestalten%21%3C%2Fstro
 ng%3E%3C%2Fp%3E%0A%0A%0A%0A%3Cp%3EEinlass%2018%3A00h%2C%20Beginn%3A%2018.
 30h%3C%2Fp%3E%0A%0A%0A%0A%3Cp%3E%3C%2Fp%3E%0A":Nachhaltigkeit strategisch
  zu verankern\, ist heute wichtiger denn je - und eröffnet enormes Poten
 tial für Unternehmen\, Kommunen und Organisationen. Doch wie lassen sich
  ökologische\, soziale und ethische Ziele wirksam ins Unternehmen integr
 ieren?\n\nUnsere Veranstaltung bietet Einblicke in die nachhaltige Untern
 ehmensführung und zeigt\, wie Gemeinwohl-Ökonomie (GWÖ) Unternehmen da
 bei unterstützt\,\n\nFachkräfte zu gewinnen\n\nInnovationimpulse zu ent
 wickeln und\n\nKund*innen durch glaubwürdiges Engagement zu überzeugen\
 n\nLassen Sie uns gemeinsam die Zukunft gestalten!\n\nEinlass 18:00h\, Be
 ginn: 18.30h
CLASS:PUBLIC
DTSTART;TZID=Europe/Berlin:20260224T180000
DTEND;TZID=Europe/Berlin:20260224T190000
DTSTAMP:20260420T095111
END:VEVENT
END:VCALENDAR