BEGIN:VCALENDAR
VERSION:2.0
PRODID:gruene-lauf.de
METHOD:PUBLISH
BEGIN:VTIMEZONE
TZID:Europe/Berlin
X-LIC-LOCATION:Europe/Berlin
BEGIN:DAYLIGHT
TZOFFSETFROM:+0100
TZOFFSETTO:+0200
TZNAME:CEST
DTSTART:19700329T020000
RRULE:FREQ=YEARLY;INTERVAL=1;BYDAY=-1SU;BYMONTH=3
END:DAYLIGHT
BEGIN:STANDARD
TZOFFSETFROM:+0200
TZOFFSETTO:+0100
TZNAME:CET
DTSTART:19701025T030000
RRULE:FREQ=YEARLY;INTERVAL=1;BYDAY=-1SU;BYMONTH=10
END:STANDARD
END:VTIMEZONE
BEGIN:VEVENT
UID:603a533793882bfa79abb5e44e47f3ea@gruene-lauf.de
URL;VALUE=URI:https://gruene-lauf.de/termine/gruenes-sommerfest/
LOCATION:
SUMMARY:Grünes Sommerfest
DESCRIPTION;ALTREP="data:text/html,%0A%3Cp%3ESave%20the%20date%20%3C%2Fp%
 3E%0A":Save the date
CLASS:PUBLIC
DTSTART;TZID=Europe/Berlin:20260802T150000
DTEND;TZID=Europe/Berlin:20260802T180000
DTSTAMP:20260422T175333
END:VEVENT
END:VCALENDAR