BEGIN:VCALENDAR
VERSION:2.0
PRODID:gruene-lauf.de
METHOD:PUBLISH
BEGIN:VTIMEZONE
TZID:Europe/Berlin
X-LIC-LOCATION:Europe/Berlin
BEGIN:DAYLIGHT
TZOFFSETFROM:+0100
TZOFFSETTO:+0200
TZNAME:CEST
DTSTART:19700329T020000
RRULE:FREQ=YEARLY;INTERVAL=1;BYDAY=-1SU;BYMONTH=3
END:DAYLIGHT
BEGIN:STANDARD
TZOFFSETFROM:+0200
TZOFFSETTO:+0100
TZNAME:CET
DTSTART:19701025T030000
RRULE:FREQ=YEARLY;INTERVAL=1;BYDAY=-1SU;BYMONTH=10
END:STANDARD
END:VTIMEZONE
BEGIN:VEVENT
UID:74c2427cb6e3b7162b7ff8c5af9c4fe5@gruene-lauf.de
URL;VALUE=URI:https://gruene-lauf.de/termine/gruener-stammtisch-am-kunigu
 ndenberg/
LOCATION:Biergarten Kunigundenberg
SUMMARY:Grüner Stammtisch am Kunigundenberg
DESCRIPTION;ALTREP="data:text/html,%0A%3Cp%3EGr%C3%BCner%20Stammtisch%20a
 b%2018%20Uhr%20im%20Biergarten%20Kunigundenberg%3C%2Fp%3E%0A":Grüner Sta
 mmtisch ab 18 Uhr im Biergarten Kunigundenberg
CLASS:PUBLIC
DTSTART;TZID=Europe/Berlin:20260706T180000
DTEND;TZID=Europe/Berlin:20260706T210000
DTSTAMP:20260422T175830
END:VEVENT
END:VCALENDAR